BEGIN:VCALENDAR
VERSION:2.0
PRODID:-//Глухівський національний педагогічний університет ім. О. Довженка - ECPv6.15.20//NONSGML v1.0//EN
CALSCALE:GREGORIAN
METHOD:PUBLISH
X-WR-CALNAME:Глухівський національний педагогічний університет ім. О. Довженка
X-ORIGINAL-URL:https://gnpu.edu.ua
X-WR-CALDESC:Події за Глухівський національний педагогічний університет ім. О. Довженка
REFRESH-INTERVAL;VALUE=DURATION:PT1H
X-Robots-Tag:noindex
X-PUBLISHED-TTL:PT1H
BEGIN:VTIMEZONE
TZID:Europe/Kiev
BEGIN:DAYLIGHT
TZOFFSETFROM:+0200
TZOFFSETTO:+0300
TZNAME:EEST
DTSTART:20240331T010000
END:DAYLIGHT
BEGIN:STANDARD
TZOFFSETFROM:+0300
TZOFFSETTO:+0200
TZNAME:EET
DTSTART:20241027T010000
END:STANDARD
BEGIN:DAYLIGHT
TZOFFSETFROM:+0200
TZOFFSETTO:+0300
TZNAME:EEST
DTSTART:20250330T010000
END:DAYLIGHT
BEGIN:STANDARD
TZOFFSETFROM:+0300
TZOFFSETTO:+0200
TZNAME:EET
DTSTART:20251026T010000
END:STANDARD
BEGIN:DAYLIGHT
TZOFFSETFROM:+0200
TZOFFSETTO:+0300
TZNAME:EEST
DTSTART:20260329T010000
END:DAYLIGHT
BEGIN:STANDARD
TZOFFSETFROM:+0300
TZOFFSETTO:+0200
TZNAME:EET
DTSTART:20261025T010000
END:STANDARD
BEGIN:DAYLIGHT
TZOFFSETFROM:+0200
TZOFFSETTO:+0300
TZNAME:EEST
DTSTART:20270328T010000
END:DAYLIGHT
BEGIN:STANDARD
TZOFFSETFROM:+0300
TZOFFSETTO:+0200
TZNAME:EET
DTSTART:20271031T010000
END:STANDARD
END:VTIMEZONE
BEGIN:VEVENT
DTSTART;TZID=Europe/Kiev:20250917T080000
DTEND;TZID=Europe/Kiev:20251201T170000
DTSTAMP:20260420T114406
CREATED:20250917T114001Z
LAST-MODIFIED:20250917T123034Z
UID:4877-1758096000-1764608400@gnpu.edu.ua
SUMMARY:Стартує ХVІ Міжнародний мовно-літературний конкурс імені Тараса Шевченка
DESCRIPTION:Стартує ХVІ Міжнародний мовно-літературний конкурс імені Тараса Шевченка \nУ 2025-2026 навчальному році традиційно відбудеться XVІ Міжнародний мовно-літературний конкурс учнівської та студентської молоді імені Тараса Шевченка. Конкурс проводиться з метою вшанування творчої спадщини Тараса Григоровича Шевченка\, виявлення творчо обдарованої молоді\, розвитку її потенціалу\, виховання у молодого покоління поваги до мови і традицій свого народу\, підвищення рівня мовної освіти в Україні. \nКонкурс відбудеться у жовтні березні 2025 року на виконання Указу Президента України від 30 вересня 2010 року № 928 «Про Міжнародний мовно-літературний конкурс учнівської та студентської молоді імені Тараса Шевченка»\, відповідно до Положення про Міжнародний мовно-літературний конкурс учнівської та студентської молоді імені Тараса Шевченка\, затвердженого постановою Кабінету Міністрів України від 01 червня 2011 року № 571. Відповідно до пункту 10 Положення про Конкурс завдання для першого етапу розробляють учителі / викладачі закладів освіти\, для другого та третього етапів – фахівці закладів післядипломної педагогічної освіти. Організовує та проводить Конкурс Міністерства освіти і науки України. \nКонкурс відбувається у 13 категоріях: учні 5–11 класів закладів загальної середньої освіти\, ліцеїсти військових ліцеїв відповідно до року навчання; студенти закладів професійної освіти; студенти закладів фахової передвищої освіти (спеціальності гуманітарного напряму навчання); студенти закладів фахової передвищої освіти (спеціальності негуманітарного напряму навчання); студенти закладів вищої освіти (спеціальності гуманітарного напряму навчання); студенти закладів вищої освіти (спеціальності негуманітарного напряму навчання); курсанти закладів вищої військової освіти. \nДля учнів закладів загальної середньої освіти\, ліцеїстів військових ліцеїв Конкурс проходить у чотири етапи: на рівні закладів освіти (жовтень); на рівні територіальних громад\, районів міста Києва\, районів областей (листопад); на рівні областей\, міста Києва (грудень); на всеукраїнському рівні (лютий). \nДля студентів і курсантів закладів професійної\, фахової передвищої та вищої освіти Конкурс проходить у три етапи: на рівні закладів освіти (листопад)\, на рівні областей\, міста Києва (грудень); на всеукраїнському рівні (лютий). \nЦеремонія відкриття Конкурсу транслюватиметься на ютуб-каналі МОН України 7 жовтня 2025 року. Відео буде доступне для перегляду з 10:00. \nДо участі в організації та проведенні Конкурсу залучаються Національна академія наук\, Національна академія педагогічних наук\, Міноборони\, МЗС\, Мінкультури\, а також представники творчих спілок\, громадських та освітянських організацій\, української діаспори. \nПереможці конкурсу отримають дипломи та цінні подарунки. \nДодаткову інформацію щодо проведення Конкурсу можна отримати у відділі організації масових заходів та інформаційно-аналітичної роботи Інституту модернізації змісту освіти за телефонами: +38 (044) 248-26-55\, +38 (097) 337-36-99. \nЗа інформацією Міністерства освіти і науки України \n  \n  \n 
URL:https://gnpu.edu.ua/event/startuye-hvi-mizhnarodnyj-movno-literaturnyj-konkurs-imeni-tarasa-shevchenka/
CATEGORIES:Студентські конкурси
END:VEVENT
BEGIN:VEVENT
DTSTART;TZID=Europe/Kiev:20250925T080000
DTEND;TZID=Europe/Kiev:20251230T170000
DTSTAMP:20260420T114406
CREATED:20250925T083002Z
LAST-MODIFIED:20251014T121256Z
UID:5036-1758787200-1767114000@gnpu.edu.ua
SUMMARY:Стартував основний конкурс наукових проєктів МОН на 2026 рік
DESCRIPTION:Оголошено основний конкурс МОН для університетських наукових проєктів на 2026 рік з окремою підтримкою прифронтових ЗВО \nМіністерство освіти і науки України оголошує проведення основного конкурсу проєктів фундаментальних наукових досліджень та прикладних наукових досліджень виконавцями яких є: працівники закладів вищої освіти та наукових установ\, що належать до сфери управління МОН\, які беруть участь у проведенні комплексних міжвідомчих досліджень \nКонкурс проводиться відповідно до нового Положення про проведення конкурсних відборів проєктів наукових досліджень і науково-технічних (експериментальних) розробок та оцінювання результатів їх виконання\, затвердженого наказом Міністерства освіти і науки України від 30 червня 2025 року № 947 та зареєстрованого в Міністерстві юстиції України 31 липня 2025 року за № 1131/44537. \n\nтематика конкурсу відповідає стратегії WINWIN 2030\n 100 млн грн на підтримку прифронтових і прикордонних ЗВО/НУ\n максимальний бюджет проєкту зріс до 4\,5 млн грн\n можливість долучення вчених НАН України до авторських колективів\n форми конкурсу гармонізовано з Horizon Europe\n визначення переможців окремо за кожним напрямом\nможливість планувати капітальні видатки\, матеріали\, реактиви до 25% бюджету проєкту\n заборонено співпрацю з агресором\, використання «хижацьких» практик та порушення доброчесності.\n\n\n Подання заявок: 25 вересня – 27 жовтня 2025 року (до 13:00) через систему URIS.\nРезультати — до кінця грудня 2025 року. Виконання проєктів почнеться з січня 2026 року.\nМатеріали:\n\nНаказ МОН від 24 вересня 2025 року №1281 \nДодаток 2 до вимог Форма ПД \nДодаток 3 до вимог Форма ФД \nДовідка бухгалтерія \nПорядок отримання довідки про перетин кордону
URL:https://gnpu.edu.ua/event/startuvav-osnovnyj-konkurs-naukovyh-proyektiv-mon-na-2026-rik/
LOCATION:Міністерство освіти і науки України
CATEGORIES:Актуальні проєктні пропозиції
END:VEVENT
BEGIN:VEVENT
DTSTART;TZID=Europe/Kiev:20251127T080000
DTEND;TZID=Europe/Kiev:20260228T170000
DTSTAMP:20260420T114406
CREATED:20251127T063318Z
LAST-MODIFIED:20251127T095326Z
UID:5904-1764230400-1772298000@gnpu.edu.ua
SUMMARY:Оголошено про проведення Всеукраїнського конкурсу студентських наукових робіт з галузей знань і спеціальностей
DESCRIPTION:Всеукраїнський конкурс студентських наукових робіт з галузей знань і спеціальностей \n\n\n\nМета конкурсу – підготовка фахівців нової генерації європейського рівня\, формування у них знань і умінь дослідницької діяльності\, для яких установлення на професійну майстерність є пріоритетною стратегією їх життєдіяльності. \n\n\n \nОсновними завданнями конкурсу є: \n\n\n \n– виявлення та розвиток обдарованих студентів\, сприяння реалізації їх здібностей; \n\n\n \n– стимулювання творчого самовдосконалення студентської молоді; \n\n\n \n– популяризація досягнень науки\, техніки та інноваційних технологій; \n\n\n \n– залучення провідних вчених\, наукових\, науково-педагогічних працівників до творчої роботи з обдарованою молоддю. \n\n\n \nМатеріали на Конкурс подаються відповідно до Положення про проведення Всеукраїнського конкурсу студентських наукових робіт з галузей знань і спеціальностей\, затвердженого наказом Міністерства освіти і науки України № 605 від 18 квітня 2017 року та зареєстрованого в Міністерстві юстиції України 15 травня 2017 року за № 620/30488. https://zakon.rada.gov.ua/laws/show/z0620-17#Text \n\n\n\nЗгідно листа Міністерства освіти і науки України за №1/23400-25 від 05.11.2025 року «Про проведення Всеукраїнської студентської олімпіади та Всеукраїнського конкурсу студентських наукових робіт з галузей знань і спеціальностей у 2025/2026 навчальному році» щодо проведення конкурсу в один тур у межах закладу вищої освіти» надаємо роз’яснення: – другий тур Всеукраїнського конкурсу студентських наукових робіт з галузей знань і спеціальностей у 2025/2026 навчальному році не проводиться. \n\n\n \nРазом з тим\, заклади вищої освіти в межах автономії можуть ініціювати проведення будь-яких студентських інтелектуальних змагань міжнародного\, всеукраїнського рівнів з виданням відповідного наказу. \n\n\n \nОргкомітету І туру Конкурсу забезпечити організацію та проведення першого туру Конкурсу\, розгляд та відбір кращих наукових робіт; провести підсумкові відеоконференції та визначити переможців І туру Конкурсу до 10 лютого 2026 року; \n\n\n \n– організувати подання в онлайн режимі робіт та усіх необхідних матеріалів до центру наукової роботи (naukagnpu@gnpu.edu.uа) в термін до 1 березня 2026 року.
URL:https://gnpu.edu.ua/event/ogolosheno-pro-provedennya-vseukrayinskogo-konkursu-studentskyh-naukovyh-robit-z-galuzej-znan-i-speczialnostej/
CATEGORIES:Студентські конкурси
ATTACH;FMTTYPE=image/jpeg:https://gnpu.edu.ua/wp-content/uploads/2025/11/ogoloshennya-i-tur.jpg
END:VEVENT
BEGIN:VEVENT
DTSTART;TZID=Europe/Kiev:20251211T130000
DTEND;TZID=Europe/Kiev:20251211T170000
DTSTAMP:20260420T114406
CREATED:20250626T131303Z
LAST-MODIFIED:20251212T071817Z
UID:2347-1765458000-1765472400@gnpu.edu.ua
SUMMARY:Технологічна освіта в контексті концептуальних засад Нової української школи
DESCRIPTION:Регіональний науково-методичний семінар «Технологічна освіта в контексті концептуальних засад Нової української школи». \nІнформаційний лист          Форма заявки        Програма семінару
URL:https://gnpu.edu.ua/event/tehnologichna-osvita-v-konteksti-konczeptualnyh-zasad-novoyi-ukrayinskoyi-shkoly/
LOCATION:Глухівський національний педагогічний університет імені Олександра Довженка
CATEGORIES:Наукові конференції та семінари
ATTACH;FMTTYPE=image/png:https://gnpu.edu.ua/wp-content/uploads/2025/06/ogoloshennya-seminar-tehnologichna-osvita.png
END:VEVENT
BEGIN:VEVENT
DTSTART;TZID=Europe/Kiev:20260210T080000
DTEND;TZID=Europe/Kiev:20260210T170000
DTSTAMP:20260420T114406
CREATED:20260210T080107Z
LAST-MODIFIED:20260210T080107Z
UID:6643-1770710400-1770742800@gnpu.edu.ua
SUMMARY:ОГОЛОШЕНІ КОНКУРСИ!
DESCRIPTION:Оголошено конкурс на здобуття Національної премії України імені Бориса Патона 2026 року\nКомітет з Національної премії України імені Бориса Патона оголошує конкурс на здобуття Національної премії України імені Бориса Патона 2026 року. \nІнструкція з оформлення документів для представлення роботи на здобуття Національної премії України імені Бориса Патона та порядок розгляду. \nІнструкція з оформлення документів для представлення роботи\, яка містить відомості\, що становлять державну таємницю на здобуття Національної премії України імені Бориса Патона та порядок розгляду. \nСекретаріат Комітету приймає роботи до 01 квітня 2026 року. Дивитися за покликанням. \n  \nОголошено конкурс на здобуття премій Президента України для молодих вчених 2026 року\nКомітет з Національної премії України імені Бориса Патона оголосив конкурс на здобуття премій Президента України для молодих вчених 2026 року. \nСекретаріат Комітету приймає роботи до 01 березня 2026 року. \nВідповідно до Указу Президента України від 24 грудня 2025 року № 981/2025 щорічно присуджується до сорока премій у розмірі 210 тисяч гривень кожна. \nІнструкцію з оформлення документів для подання роботи на здобуття премії Президента України для молодих вчених та порядок розгляду дивитися за покликанням. \n  \nНаціональний фонд досліджень України оголошує конкурсний відбір наукових робіт на присудження Премії Верховної Ради України імені Ігоря Юхновського\nМетою конкурсу є підтримка розвитку вітчизняної науки і техніки\, молодих вчених\, створення додаткових можливостей і стимулів для проведення ними фундаментальних та прикладних наукових досліджень і науково-технічних (експериментальних) розробок за пріоритетними напрямами розвитку науки і техніки. \nКонкурс спрямований на відбір актуальних та значущих конкурсних робіт для присудження Премії молодим вченим – громадянам України за вагомі наукові здобутки. \nТермін подачі заявок: з 15 січня 2026\, 00:01 по 01 березня 2026\, 23:59 (за київським часом). \nУмови конкурсу розміщено за посиланням: https://cutt.ly/5thO1u3H. \nДивитися за покликанням.
URL:https://gnpu.edu.ua/event/ogolosheni-konkursy/
ATTACH;FMTTYPE=image/png:https://gnpu.edu.ua/wp-content/uploads/2026/02/gemini_generated_image_jbid2xjbid2xjbid-e1770710230687.png
END:VEVENT
BEGIN:VEVENT
DTSTART;TZID=Europe/Kiev:20260211T080000
DTEND;TZID=Europe/Kiev:20260212T170000
DTSTAMP:20260420T114406
CREATED:20260127T091201Z
LAST-MODIFIED:20260406T112958Z
UID:6432-1770796800-1770915600@gnpu.edu.ua
SUMMARY:Сучасні тенденції та перспективи мовно-літературної освіти в Україні
DESCRIPTION:VIIІ Усеукраїнська  студентсько-викладацька науково-практична інтернет-конференція «Сучасні тенденції та перспективи мовно-літературної освіти в Україні»\nІнформаційний лист          Програма       Збірник
URL:https://gnpu.edu.ua/event/suchasni-tendencziyi-ta-perspektyvy-movno-literaturnoyi-osvity-v-ukrayini-2/
LOCATION:Глухівський національний педагогічний університет імені Олександра Довженка
CATEGORIES:Наукові конференції та семінари
ATTACH;FMTTYPE=image/jpeg:https://gnpu.edu.ua/wp-content/uploads/2026/01/anons-ukr.jpg
END:VEVENT
BEGIN:VEVENT
DTSTART;TZID=Europe/Kiev:20260219T080000
DTEND;TZID=Europe/Kiev:20260219T170000
DTSTAMP:20260420T114406
CREATED:20260127T112106Z
LAST-MODIFIED:20260316T071350Z
UID:6444-1771488000-1771520400@gnpu.edu.ua
SUMMARY:Розвиток гнучких умінь (soft skills) у процесі освітньої діяльності: теорія і практика
DESCRIPTION:ІV Всеукраїнська науково-практична інтернет-конференція «Розвиток гнучких умінь (soft skills) у процесі освітньої діяльності: теорія і практика» \nІнформаційний лист          Програма       Збірник     Сертифікати
URL:https://gnpu.edu.ua/event/rozvytok-gnuchkyh-umin-soft-skills-u-proczesi-osvitnoyi-diyalnosti-teoriya-i-praktyka-2/
LOCATION:Глухівський національний педагогічний університет імені Олександра Довженка
CATEGORIES:Наукові конференції та семінари
ATTACH;FMTTYPE=image/jpeg:https://gnpu.edu.ua/wp-content/uploads/2026/01/anons-soft-skills-2026.jpg
END:VEVENT
BEGIN:VEVENT
DTSTART;TZID=Europe/Kiev:20260305T080000
DTEND;TZID=Europe/Kiev:20260306T170000
DTSTAMP:20260420T114406
CREATED:20260127T112358Z
LAST-MODIFIED:20260409T074418Z
UID:6449-1772697600-1772816400@gnpu.edu.ua
SUMMARY:Дошкільна освіта України в контексті інтеграції до європейського освітнього простору
DESCRIPTION:VІІ Всеукраїнська здобувачів вищої освіти\, аспірантів\, молодих учених науково-практична інтернет-конференція з міжнародною участю «Дошкільна освіта України в контексті інтеграції до європейського освітнього простору» \nІнформаційний лист   information letter     Програма        Збірник      Сертифікати
URL:https://gnpu.edu.ua/event/doshkilna-osvita-ukrayiny-v-konteksti-integracziyi-do-yevropejskogo-osvitnogo-prostoru-2/
LOCATION:Глухівський національний педагогічний університет імені Олександра Довженка
CATEGORIES:Наукові конференції та семінари
ATTACH;FMTTYPE=image/jpeg:https://gnpu.edu.ua/wp-content/uploads/2026/01/anons-_konferencziyi-2026.jpg
END:VEVENT
BEGIN:VEVENT
DTSTART;TZID=Europe/Kiev:20260326T080000
DTEND;TZID=Europe/Kiev:20260327T170000
DTSTAMP:20260420T114406
CREATED:20260127T112526Z
LAST-MODIFIED:20260408T083856Z
UID:6451-1774512000-1774630800@gnpu.edu.ua
SUMMARY:Звітна науково-практична конференція викладачів\,  здобувачів середньої\, фахової передвищої і вищої освіти\, аспірантів і молодих вчених «Освіта і наука XXI століття»
DESCRIPTION:Звітна науково-практична конференція викладачів\,  здобувачів середньої\, фахової передвищої і вищої освіти\, аспірантів і молодих вчених «Освіта і наука XXI століття»  \nПрограми конференції    Частина 1                   Частина 2 (здобувачів освіти) \nЗбірники                             Частина 1                    Частина 2 аспірантів _здобувачів освіти 
URL:https://gnpu.edu.ua/event/zvitna-naukovo-praktychna-konferencziya-vykladachiv-zdobuvachiv-serednoyi-fahovoyi-peredvyshhoyi-i-vyshhoyi-osvity-aspirantiv-i-molodyh-vchenyh-osvita-i-nauka-xxi-stolittya/
LOCATION:Глухівський національний педагогічний університет імені Олександра Довженка
CATEGORIES:Наукові конференції та семінари
ATTACH;FMTTYPE=image/jpeg:https://gnpu.edu.ua/wp-content/uploads/2026/01/zvitna-ogoloshennya-2026-1.jpg
END:VEVENT
BEGIN:VEVENT
DTSTART;VALUE=DATE:20260402
DTEND;VALUE=DATE:20260403
DTSTAMP:20260420T114406
CREATED:20260127T112756Z
LAST-MODIFIED:20260402T070706Z
UID:6453-1775088000-1775174399@gnpu.edu.ua
SUMMARY:Розвиток педагогічної майстерності майбутнього педагога в умовах освітніх трансформацій
DESCRIPTION:VІ Всеукраїнська науково- практична конференція  «Розвиток педагогічної майстерності майбутнього педагога в умовах освітніх трансформацій» \nІнформаційний лист             Програма конференції        Збірник       Сертифікати
URL:https://gnpu.edu.ua/event/rozvytok-pedagogichnoyi-majsternosti-majbutnogo-pedagoga-v-umovah-osvitnih-transformaczij-2/
LOCATION:Глухівський національний педагогічний університет імені Олександра Довженка
CATEGORIES:Наукові конференції та семінари
ATTACH;FMTTYPE=image/jpeg:https://gnpu.edu.ua/wp-content/uploads/2026/01/anons-2-kvitnya-2026.jpg
END:VEVENT
BEGIN:VEVENT
DTSTART;VALUE=DATE:20260414
DTEND;VALUE=DATE:20260416
DTSTAMP:20260420T114406
CREATED:20260127T113343Z
LAST-MODIFIED:20260414T075740Z
UID:6456-1776124800-1776297599@gnpu.edu.ua
SUMMARY:The 21st Century Challenges in Education and Science
DESCRIPTION:ХІV Всеукраїнські науково-педагогічні читання молодих учених і здобувачів освіти іноземними мовами «The 21st Century Challenges in Education and Science» \nІнформаційний лист      INFORMATION SHEET              Програма конференції
URL:https://gnpu.edu.ua/event/the-21st-century-challenges-in-education-and-science/
LOCATION:Глухівський національний педагогічний університет імені Олександра Довженка
CATEGORIES:Наукові конференції та семінари
ATTACH;FMTTYPE=image/jpeg:https://gnpu.edu.ua/wp-content/uploads/2026/01/anons-14_15_04chyt-in-movamy.jpg
END:VEVENT
BEGIN:VEVENT
DTSTART;VALUE=DATE:20260416
DTEND;VALUE=DATE:20260417
DTSTAMP:20260420T114406
CREATED:20260127T113537Z
LAST-MODIFIED:20260416T153527Z
UID:6461-1776297600-1776383999@gnpu.edu.ua
SUMMARY:Глухівські історико-філософські читання пам’яті Валерія Бєлашова\, Мечислава Заремського\, Віктора Заїки та Юрія Коваленка
DESCRIPTION:ІІІ Всеукраїнська інтернет-  конференція «Глухівські історико-філософські читання пам’яті Валерія Бєлашова\, Мечислава Заремського\, Віктора Заїки та Юрія Коваленка» \nІнформаційний лист              Програма конференції            Збірник        Сертифікати
URL:https://gnpu.edu.ua/event/gluhivski-istoryko-filosofski-chytannya-pamyati-valeriya-byelashova-mechyslava-zaremskogo-viktora-zayiky-ta-yuriya-kovalenk/
LOCATION:Глухівський національний педагогічний університет імені Олександра Довженка
CATEGORIES:Наукові конференції та семінари
ATTACH;FMTTYPE=image/jpeg:https://gnpu.edu.ua/wp-content/uploads/2026/01/anons-istoryko-filosof-chytannya_2026.jpg
END:VEVENT
BEGIN:VEVENT
DTSTART;VALUE=DATE:20260514
DTEND;VALUE=DATE:20260515
DTSTAMP:20260420T114406
CREATED:20260127T113723Z
LAST-MODIFIED:20260127T120417Z
UID:6464-1778716800-1778803199@gnpu.edu.ua
SUMMARY:Технологічна і професійна освіта: проблеми і перспективи
DESCRIPTION:V Міжнародна науково-практична конференція «Технологічна і професійна освіта: проблеми і перспективи»  \nІнформаційний лист   INFORMATION SHEET      Форма заявки        Програма конференції               Збірник
URL:https://gnpu.edu.ua/event/tehnologichna-i-profesijna-osvita-problemy-i-perspektyvy/
LOCATION:Глухівський національний педагогічний університет імені Олександра Довженка
CATEGORIES:Наукові конференції та семінари
ATTACH;FMTTYPE=image/jpeg:https://gnpu.edu.ua/wp-content/uploads/2026/01/anons-konf-14_05_26-tehnologichna-osvita.jpg
END:VEVENT
BEGIN:VEVENT
DTSTART;VALUE=DATE:20260515
DTEND;VALUE=DATE:20260516
DTSTAMP:20260420T114406
CREATED:20260127T113910Z
LAST-MODIFIED:20260211T193353Z
UID:6468-1778803200-1778889599@gnpu.edu.ua
SUMMARY:«Студентський науковий вимір проблем природничо-математичної освіти в контексті інтеграції України до єдиного європейського і світового освітнього простору»
DESCRIPTION:VІІІ Всеукраїнська студентська науково-практична інтернет-конференція з міжнародною участю: «Студентський науковий вимір проблем природничо-математичної освіти в контексті інтеграції України до єдиного європейського і світового освітнього простору» \nІнформаційний лист    Форма заявки        Програма конференції
URL:https://gnpu.edu.ua/event/studentskyj-naukovyj-vymir-problem-pryrodnycho-matematychnoyi-osvity-v-konteksti-integracziyi-ukrayiny-do-yedynogo-yevropejskogo-i-svitovogo-osvitnogo-prostoru-2/
LOCATION:Глухівський національний педагогічний університет імені Олександра Довженка
CATEGORIES:Наукові конференції та семінари
ATTACH;FMTTYPE=image/jpeg:https://gnpu.edu.ua/wp-content/uploads/2026/01/anons-pryrodnycha-osvita.jpg
END:VEVENT
BEGIN:VEVENT
DTSTART;VALUE=DATE:20260601
DTEND;VALUE=DATE:20260701
DTSTAMP:20260420T114406
CREATED:20260127T114655Z
LAST-MODIFIED:20260127T114655Z
UID:6471-1780272000-1782863999@gnpu.edu.ua
SUMMARY:Нова українська школа: виклики часу
DESCRIPTION:ІV Всеукраїнська науково-практична конференція «Нова українська школа: виклики часу»  \nІнформаційний лист          Форма заявки        Програма конференції
URL:https://gnpu.edu.ua/event/nova-ukrayinska-shkola-vyklyky-chasu/
LOCATION:Глухівський національний педагогічний університет імені Олександра Довженка
CATEGORIES:Наукові конференції та семінари
END:VEVENT
BEGIN:VEVENT
DTSTART;VALUE=DATE:20261022
DTEND;VALUE=DATE:20261024
DTSTAMP:20260420T114406
CREATED:20260127T114848Z
LAST-MODIFIED:20260131T140536Z
UID:6477-1792627200-1792799999@gnpu.edu.ua
SUMMARY:Природнича освіта і наука для сталого розвитку України: проблеми і перспективи
DESCRIPTION:V Всеукраїнська науково-практична інтернет-конференція з міжнародною участю «Природнича освіта і наука для сталого розвитку України: проблеми і перспективи»  \nІнформаційний лист          Форма заявки        Програма конференції
URL:https://gnpu.edu.ua/event/pryrodnycha-osvita-i-nauka-dlya-stalogo-rozvytku-ukrayiny-problemy-i-perspektyvy/
LOCATION:Глухівський національний педагогічний університет імені Олександра Довженка
CATEGORIES:Наукові конференції та семінари
ATTACH;FMTTYPE=image/jpeg:https://gnpu.edu.ua/wp-content/uploads/2026/01/anons-pryrodnycha-zhovten.jpg
END:VEVENT
BEGIN:VEVENT
DTSTART;VALUE=DATE:20261105
DTEND;VALUE=DATE:20261106
DTSTAMP:20260420T114406
CREATED:20260127T115024Z
LAST-MODIFIED:20260131T144722Z
UID:6479-1793836800-1793923199@gnpu.edu.ua
SUMMARY:Підготовка майстра виробничого навчання\, викладача професійного навчання до впровадження в освітній процес інноваційних технологій
DESCRIPTION:IX Всеукраїнський науково-методичний семінар «Підготовка майстра виробничого навчання\, викладача професійного навчання до впровадження в освітній процес інноваційних технологій» \nІнформаційний лист                Програма семінару
URL:https://gnpu.edu.ua/event/pidgotovka-majstra-vyrobnychogo-navchannya-vykladacha-profesijnogo-navchannya-do-vprovadzhennya-v-osvitnij-proczes-innovaczijnyh-tehnologij/
LOCATION:Глухівський національний педагогічний університет імені Олександра Довженка
CATEGORIES:Наукові конференції та семінари
ATTACH;FMTTYPE=image/jpeg:https://gnpu.edu.ua/wp-content/uploads/2026/01/anons-seminar-majstra-vyrob-1.jpg
END:VEVENT
BEGIN:VEVENT
DTSTART;VALUE=DATE:20261110
DTEND;VALUE=DATE:20261113
DTSTAMP:20260420T114406
CREATED:20260127T115414Z
LAST-MODIFIED:20260127T115414Z
UID:6484-1794268800-1794527999@gnpu.edu.ua
SUMMARY:Глухівські наукові читання - 2026. Актуальні питання суспільних та гуманітарних наук
DESCRIPTION:XVI Міжнародна інтернет-конференція молодих учених і студентів «Глухівські наукові читання – 2026. Актуальні питання суспільних та гуманітарних наук» \nІнформаційний лист          Форма заявки        Програма конференції
URL:https://gnpu.edu.ua/event/gluhivski-naukovi-chytannya-2026-aktualni-pytannya-suspilnyh-ta-gumanitarnyh-nauk/
LOCATION:Глухівський національний педагогічний університет імені Олександра Довженка
CATEGORIES:Наукові конференції та семінари
END:VEVENT
BEGIN:VEVENT
DTSTART;VALUE=DATE:20261124
DTEND;VALUE=DATE:20261125
DTSTAMP:20260420T114406
CREATED:20260127T115541Z
LAST-MODIFIED:20260127T121329Z
UID:6488-1795478400-1795564799@gnpu.edu.ua
SUMMARY:Сучасні проблеми фізичного виховання\, спорту та туристично-краєзнавчої і фізкультурно-оздоровчої роботи
DESCRIPTION:V Всеукраїнська науково-практична інтернет-конференція з міжнародною участю  «Сучасні проблеми фізичного виховання\, спорту та туристично-краєзнавчої і фізкультурно-оздоровчої роботи»  \nІнформаційний лист               Програма конференції           Збірник
URL:https://gnpu.edu.ua/event/suchasni-problemy-fizychnogo-vyhovannya-sportu-ta-turystychno-krayeznavchoyi-i-fizkulturno-ozdorovchoyi-roboty-2/
LOCATION:Глухівський національний педагогічний університет імені Олександра Довженка
CATEGORIES:Наукові конференції та семінари
ATTACH;FMTTYPE=image/jpeg:https://gnpu.edu.ua/wp-content/uploads/2026/01/anons_fizvyhovan_24_11_26.jpg
END:VEVENT
END:VCALENDAR